BEGIN:VCALENDAR
VERSION:2.0
PRODID:-//Stilles Zürich - ECPv6.15.20//NONSGML v1.0//EN
CALSCALE:GREGORIAN
METHOD:PUBLISH
X-WR-CALNAME:Stilles Zürich
X-ORIGINAL-URL:https://www.stilles-zuerich.ch
X-WR-CALDESC:Veranstaltungen für Stilles Zürich
REFRESH-INTERVAL;VALUE=DURATION:PT1H
X-Robots-Tag:noindex
X-PUBLISHED-TTL:PT1H
BEGIN:VTIMEZONE
TZID:Europe/Berlin
BEGIN:DAYLIGHT
TZOFFSETFROM:+0100
TZOFFSETTO:+0200
TZNAME:CEST
DTSTART:20250330T010000
END:DAYLIGHT
BEGIN:STANDARD
TZOFFSETFROM:+0200
TZOFFSETTO:+0100
TZNAME:CET
DTSTART:20251026T010000
END:STANDARD
BEGIN:DAYLIGHT
TZOFFSETFROM:+0100
TZOFFSETTO:+0200
TZNAME:CEST
DTSTART:20260329T010000
END:DAYLIGHT
BEGIN:STANDARD
TZOFFSETFROM:+0200
TZOFFSETTO:+0100
TZNAME:CET
DTSTART:20261025T010000
END:STANDARD
BEGIN:DAYLIGHT
TZOFFSETFROM:+0100
TZOFFSETTO:+0200
TZNAME:CEST
DTSTART:20270328T010000
END:DAYLIGHT
BEGIN:STANDARD
TZOFFSETFROM:+0200
TZOFFSETTO:+0100
TZNAME:CET
DTSTART:20271031T010000
END:STANDARD
END:VTIMEZONE
BEGIN:VEVENT
DTSTART;TZID=Europe/Berlin:20260226T200000
DTEND;TZID=Europe/Berlin:20260226T213000
DTSTAMP:20260421T111238
CREATED:20260203T092454Z
LAST-MODIFIED:20260223T163621Z
UID:9973-1772136000-1772141400@www.stilles-zuerich.ch
SUMMARY:Dankbar speisen: frisch Zubereitetes aus dem Kochworkshop
DESCRIPTION:Nach dem Vorbild der indischen Köch:innen bereiten die Teilnehmenden des Workshops «Mit Hingabe kochen: indisch-vegane Tempelküche» ein Buffet mit verschiedenen warmen und kalten Zubereitungen inkl. Dessert und einem Getränk vor. Im Anschluss wird das Gezauberte gemeinsam verspiesen\, wobei es ein paar zusätzliche Plätze für Nicht-Köch:innen gibt\, die zum Essen dazustossen. Vegan und alkoholfrei. Ohne Zwiebeln\, Knoblauch\, Nüsse. Es werden Sojaprodukte verwendet. Allergien bitte bei der Anmeldung mitteilen. AnmeldungDas gemeinsame Essen am 26. Februar findet mangels Anmeldungen leider nicht statt. Eine Anmeldung ist nicht mehr möglich.
URL:https://www.stilles-zuerich.ch/event/dankbar-speisen-frisch-zubereitetes-aus-dem-kochworkshop-2/
LOCATION:Kulturhaus Helferei\, Kirchgasse 13\, Zürich\, 8001
CATEGORIES:26. Februar 2026,erkunden & etwas machen
ATTACH;FMTTYPE=image/jpeg:https://www.stilles-zuerich.ch/wp-content/uploads/chelsea-shapouri-kEF2XCBE4TY-unsplash-scaled.jpg
END:VEVENT
END:VCALENDAR