BEGIN:VCALENDAR
VERSION:2.0
PRODID:-//Stilles Zürich - ECPv6.15.20//NONSGML v1.0//EN
CALSCALE:GREGORIAN
METHOD:PUBLISH
X-WR-CALNAME:Stilles Zürich
X-ORIGINAL-URL:https://www.stilles-zuerich.ch
X-WR-CALDESC:Veranstaltungen für Stilles Zürich
REFRESH-INTERVAL;VALUE=DURATION:PT1H
X-Robots-Tag:noindex
X-PUBLISHED-TTL:PT1H
BEGIN:VTIMEZONE
TZID:Europe/Berlin
BEGIN:DAYLIGHT
TZOFFSETFROM:+0100
TZOFFSETTO:+0200
TZNAME:CEST
DTSTART:20230326T010000
END:DAYLIGHT
BEGIN:STANDARD
TZOFFSETFROM:+0200
TZOFFSETTO:+0100
TZNAME:CET
DTSTART:20231029T010000
END:STANDARD
BEGIN:DAYLIGHT
TZOFFSETFROM:+0100
TZOFFSETTO:+0200
TZNAME:CEST
DTSTART:20240331T010000
END:DAYLIGHT
BEGIN:STANDARD
TZOFFSETFROM:+0200
TZOFFSETTO:+0100
TZNAME:CET
DTSTART:20241027T010000
END:STANDARD
BEGIN:DAYLIGHT
TZOFFSETFROM:+0100
TZOFFSETTO:+0200
TZNAME:CEST
DTSTART:20250330T010000
END:DAYLIGHT
BEGIN:STANDARD
TZOFFSETFROM:+0200
TZOFFSETTO:+0100
TZNAME:CET
DTSTART:20251026T010000
END:STANDARD
END:VTIMEZONE
BEGIN:VEVENT
DTSTART;TZID=Europe/Berlin:20240303T100000
DTEND;TZID=Europe/Berlin:20240303T113000
DTSTAMP:20260421T110149
CREATED:20231117T100938Z
LAST-MODIFIED:20240311T065948Z
UID:6202-1709460000-1709465400@www.stilles-zuerich.ch
SUMMARY:Die bewegte Stille dazwischen
DESCRIPTION:Sei es in der Musik\, in einem Theaterstück\, einem literarischen Text oder auch im alltäglichen Leben: Oft sind es die Pausen oder der Raum dazwischen\, in denen viel passiert: Unerwartetes\, Neues\, Veränderndes. Indem wir uns in der freien Tanzimprovisation diesem Dazwischen zuwenden\, begeben wir uns auf eine spielerische\, achtsame Suche nach unseren ganz authentischen Bewegungen. Lassen uns ein\, auf das\, was sonst übergangen oder übersehen wird. Wir werden uns in den 90 Minuten viel in Stille bewegen\, in diesem scheinbar leeren Raum\, wo nichts ist. Den Pausen in der Musik folgen\, das Wechselspiel zwischen Stille und Nicht-Stille\, laut und leise\, bewusst wahrnehmen und daraus improvisierend unsere Bewegungen entstehen lassen. Mit Elementen aus Skinner Releasing Technique\, Authentic Movement\, Tanzimprovisation\, Qi Gong und Achtsamkeitstraining. \nAnbietende \nDenise Grandjean\, natural movement process: Web\, Instagram \nOrt \nDebattierhaus Karl der Grosse\, Saal
URL:https://www.stilles-zuerich.ch/event/die-bewegte-stille/
LOCATION:Debattierhaus Karl der Grosse\, Kirchgasse 14\, Zürich\, 8001
CATEGORIES:3. März 2024,erkunden & etwas machen
ATTACH;FMTTYPE=image/jpeg:https://www.stilles-zuerich.ch/wp-content/uploads/denise_04.jpg
END:VEVENT
END:VCALENDAR