BEGIN:VCALENDAR
VERSION:2.0
PRODID:-//Stilles Zürich - ECPv6.15.20//NONSGML v1.0//EN
CALSCALE:GREGORIAN
METHOD:PUBLISH
X-WR-CALNAME:Stilles Zürich
X-ORIGINAL-URL:https://www.stilles-zuerich.ch
X-WR-CALDESC:Veranstaltungen für Stilles Zürich
REFRESH-INTERVAL;VALUE=DURATION:PT1H
X-Robots-Tag:noindex
X-PUBLISHED-TTL:PT1H
BEGIN:VTIMEZONE
TZID:Europe/Berlin
BEGIN:DAYLIGHT
TZOFFSETFROM:+0100
TZOFFSETTO:+0200
TZNAME:CEST
DTSTART:20250330T010000
END:DAYLIGHT
BEGIN:STANDARD
TZOFFSETFROM:+0200
TZOFFSETTO:+0100
TZNAME:CET
DTSTART:20251026T010000
END:STANDARD
BEGIN:DAYLIGHT
TZOFFSETFROM:+0100
TZOFFSETTO:+0200
TZNAME:CEST
DTSTART:20260329T010000
END:DAYLIGHT
BEGIN:STANDARD
TZOFFSETFROM:+0200
TZOFFSETTO:+0100
TZNAME:CET
DTSTART:20261025T010000
END:STANDARD
BEGIN:DAYLIGHT
TZOFFSETFROM:+0100
TZOFFSETTO:+0200
TZNAME:CEST
DTSTART:20270328T010000
END:DAYLIGHT
BEGIN:STANDARD
TZOFFSETFROM:+0200
TZOFFSETTO:+0100
TZNAME:CET
DTSTART:20271031T010000
END:STANDARD
END:VTIMEZONE
BEGIN:VEVENT
DTSTART;TZID=Europe/Berlin:20260228T100000
DTEND;TZID=Europe/Berlin:20260228T143000
DTSTAMP:20260421T123500
CREATED:20251211T082903Z
LAST-MODIFIED:20260219T074006Z
UID:8453-1772272800-1772289000@www.stilles-zuerich.ch
SUMMARY:Händeauflegen
DESCRIPTION:Seit mehr als 20 Jahren bietet ein Team von Freiwilligen der Citykirche Offener St. Jakob eine besondere Form von Seelsorge an: Sie legen Besucher:innen ihre Hände auf\, und geben ihnen so neue Kraft für die Aufgaben\, die ihnen das Leben stellt. Hand-Auflegen in der Kirche? Was ist das? Wie geht das? Was passiert? Der folgende Film gibt einen Einblick in die Praxis in der Kirche St. Jakob und anderen Kirchen in der deutschsprachigen Schweiz: 								\n				\n				\n						\n					\n			\n						\n				\n							\n					\n						\n				\n					\n		\n				\n			\n							\n		\n					\n		\n				\n				\n							\n			\n		\n						\n				\n				\n				\n									AnbietendeCitykirche Offener St. Jakob – Website   AnmeldungEine Anmeldung ist nicht erforderlich. Das Händeauflegen kann spontan besucht werden.
URL:https://www.stilles-zuerich.ch/event/haendeauflegen/
LOCATION:Kulturhaus Helferei\, Kirchgasse 13\, Zürich\, 8001
CATEGORIES:28. Februar 2026,meditieren & schweigen
END:VEVENT
END:VCALENDAR