BEGIN:VCALENDAR
VERSION:2.0
PRODID:-//Stilles Zürich - ECPv6.15.20//NONSGML v1.0//EN
CALSCALE:GREGORIAN
METHOD:PUBLISH
X-WR-CALNAME:Stilles Zürich
X-ORIGINAL-URL:https://www.stilles-zuerich.ch
X-WR-CALDESC:Veranstaltungen für Stilles Zürich
REFRESH-INTERVAL;VALUE=DURATION:PT1H
X-Robots-Tag:noindex
X-PUBLISHED-TTL:PT1H
BEGIN:VTIMEZONE
TZID:Europe/Berlin
BEGIN:DAYLIGHT
TZOFFSETFROM:+0100
TZOFFSETTO:+0200
TZNAME:CEST
DTSTART:20230326T010000
END:DAYLIGHT
BEGIN:STANDARD
TZOFFSETFROM:+0200
TZOFFSETTO:+0100
TZNAME:CET
DTSTART:20231029T010000
END:STANDARD
BEGIN:DAYLIGHT
TZOFFSETFROM:+0100
TZOFFSETTO:+0200
TZNAME:CEST
DTSTART:20240331T010000
END:DAYLIGHT
BEGIN:STANDARD
TZOFFSETFROM:+0200
TZOFFSETTO:+0100
TZNAME:CET
DTSTART:20241027T010000
END:STANDARD
BEGIN:DAYLIGHT
TZOFFSETFROM:+0100
TZOFFSETTO:+0200
TZNAME:CEST
DTSTART:20250330T010000
END:DAYLIGHT
BEGIN:STANDARD
TZOFFSETFROM:+0200
TZOFFSETTO:+0100
TZNAME:CET
DTSTART:20251026T010000
END:STANDARD
END:VTIMEZONE
BEGIN:VEVENT
DTSTART;TZID=Europe/Berlin:20240302T180000
DTEND;TZID=Europe/Berlin:20240302T193000
DTSTAMP:20260423T120422
CREATED:20231123T162547Z
LAST-MODIFIED:20240311T070147Z
UID:6461-1709402400-1709407800@www.stilles-zuerich.ch
SUMMARY:Mindful Eating – Achtsames Essen (auf Englisch)
DESCRIPTION:Discover a new relationship with the food. Learn to appreciate\, enjoy and savour your meal. \nIn a world of multitasking and fast-food\, mindless eating is all too common. We have less and less time and ability to stop\, stay focused and get in touch with our inner selves – our thoughts\, feelings\, sensations. \nMindful eating involves paying full attention to the experience of eating and drinking\, both inside and outside the body. Food is a powerful sensual experience that engages all our senses. We pay undivided attention to the colours\, smells\, textures\, flavours\, temperatures and even the sounds of our food. We become fully engaged in the present moment. \nAnbietende \nEla Amarie\, Mindful Brain: Web \nMenu \n\nLinsen-Rüäblisuppe (Vegan/Glutenfrei)\nCurry-Eintopf mit Blumenkohl\, Kartoffeln und Gebackenen Kichererbsen (Vegan/Glutenfrei) dazu Minisandwiches: Randenhummus und Harisarüäbli (Vegan/Glutenfrei)\nSchoggi-Brownie (Glutenfrei)\n\nOrt \nDebattierhaus Karl der Grosse\, Flüsterfoyer (Blaues Foyer)
URL:https://www.stilles-zuerich.ch/event/stilles-essen/
LOCATION:Debattierhaus Karl der Grosse\, Kirchgasse 14\, Zürich\, 8001
CATEGORIES:2. März 2024,erkunden & etwas machen
ATTACH;FMTTYPE=image/jpeg:https://www.stilles-zuerich.ch/wp-content/uploads/pexels-helena-lopes-1861785-scaled.jpg
END:VEVENT
END:VCALENDAR